BEGIN:VCALENDAR
VERSION:2.0
PRODID:-//J5 Psychic Metaphysical Trauma Healing - ECPv6.15.20//NONSGML v1.0//EN
CALSCALE:GREGORIAN
METHOD:PUBLISH
X-WR-CALNAME:J5 Psychic Metaphysical Trauma Healing
X-ORIGINAL-URL:https://j5psychic.com
X-WR-CALDESC:Events for J5 Psychic Metaphysical Trauma Healing
REFRESH-INTERVAL;VALUE=DURATION:PT1H
X-Robots-Tag:noindex
X-PUBLISHED-TTL:PT1H
BEGIN:VTIMEZONE
TZID:America/North_Dakota/Center
BEGIN:DAYLIGHT
TZOFFSETFROM:-0600
TZOFFSETTO:-0500
TZNAME:CDT
DTSTART:20210314T080000
END:DAYLIGHT
BEGIN:STANDARD
TZOFFSETFROM:-0500
TZOFFSETTO:-0600
TZNAME:CST
DTSTART:20211107T070000
END:STANDARD
BEGIN:DAYLIGHT
TZOFFSETFROM:-0600
TZOFFSETTO:-0500
TZNAME:CDT
DTSTART:20220313T080000
END:DAYLIGHT
BEGIN:STANDARD
TZOFFSETFROM:-0500
TZOFFSETTO:-0600
TZNAME:CST
DTSTART:20221106T070000
END:STANDARD
BEGIN:DAYLIGHT
TZOFFSETFROM:-0600
TZOFFSETTO:-0500
TZNAME:CDT
DTSTART:20230312T080000
END:DAYLIGHT
BEGIN:STANDARD
TZOFFSETFROM:-0500
TZOFFSETTO:-0600
TZNAME:CST
DTSTART:20231105T070000
END:STANDARD
END:VTIMEZONE
BEGIN:VEVENT
DTSTART;TZID=America/North_Dakota/Center:20221119T200000
DTEND;TZID=America/North_Dakota/Center:20221119T230000
DTSTAMP:20260421T050620
CREATED:20221105T230313Z
LAST-MODIFIED:20221105T230313Z
UID:1692-1668888000-1668898800@j5psychic.com
SUMMARY:J5 Psychic - Plant Medicine Ceremony @ Enchantments and Oddities\, Owasso\, Oklahoma
DESCRIPTION:J5 Psychic Plant Medicine Ceremony @ Enchantments and Oddities in Owasso\, Oklahoma\, Nov 19th 8pm – 11pm \nREPOSTED from Enchantments and Oddities \n\nWe will be hosting a sacred tobacco plant medicine and cacao ceremony at our Owasso location on November 19th. Space is limited to 15 people. Tickets are $150 and the ceremony begins at 8:00 pm and will end at 11 pm. The ceremony will be facilitated by J5 and his partner Katherine.\n\n\n\nThis ceremony will be primarily focused on cleansing and inner engineering. We invite those that are truly serious about their healing journey as we will be working with strong plant medicine that for some may cause purging. We invite you to welcome the purge\, to welcome the connection and alliance with these sacred plant medicines. By allowing these sacred plants into your body\, you’re giving them consent to work with you internally and to go inside you and purge energies that no longer serve your highest good.\n\n\n\nThe ceremony will be a 3-hour ceremony and will begin with the Ambil medicine. We will start with Ambil to ground us and prepare us for the ceremony. Traditionally Ambil can be used for other reasons but for this gathering it will be to ground everyone and to prepare us for working with the other medicines. Ambil will work with our lower chakra gates and ground\, cleanse\, and purge those areas. Ambil is very intense so we will give everyone an hour to recuperate and also share their experience. Visuals and communication are possible during the duration Ambil is working within you.\n\n\n\nThe second medicine we will work with is Hapè\, Amazonian sacred snuff plant medicine. Where Ambil focused on the lower chakras gates\, Hapè will focus on working with the upper chakras. Hapè\, although each variety has its specific uniqueness\, is highly effective for cleansing the body of panema (what indigenous tribes refer to as negative energy/negative spirits/bad energy). Like Ambil\, Hapè can be a very intense experience and likewise\, you can receive visuals\, messages\, and communication during the duration Hapè is working inside your body.\n\n\n\nWe will conclude the ceremony with the sacred cacao plant medicine. We will not be adding anything to sweeten the cacao to make it more palatable\, it will be in its bitter natural state because this ceremony is all about giving up comfort for inner cleansing and inner engineering. We would like to serve you cacao in its purest form and naturally\, it is a very bitter chocolate substance. This ceremony will not be a comfortable experience so we invite those that are truly serious about leaving behind old energies that no longer serve them and let go of blocks preventing the growth of your highest purpose.
URL:https://j5psychic.com/events/j5-psychic-enchantments-and-oddities-plantmedicineceremony/
LOCATION:Enchantments and Oddities Owasso\, 8571 N Owasso Expy suite C\, Owasso\, OK\, 74055\, United States
CATEGORIES:Crystal Store,Energetic Healing,J5 Psychic,Metaphysical Store
ATTACH;FMTTYPE=image/jpeg:https://j5psychic.com/wp-content/uploads/2022/11/j5plantceremonyowasso.jpg
END:VEVENT
BEGIN:VEVENT
DTSTART;TZID=America/North_Dakota/Center:20221112T110000
DTEND;TZID=America/North_Dakota/Center:20221113T170000
DTSTAMP:20260421T050620
CREATED:20220829T224733Z
LAST-MODIFIED:20221014T010411Z
UID:1575-1668250800-1668358800@j5psychic.com
SUMMARY:J5 Psychic @ NLR\, AR
DESCRIPTION:J5 Psychic @ Body\, Mind\, & Soul Expo in North Little Rock\, AR \n \n  \n 
URL:https://j5psychic.com/events/j5-psychic-nlr-ar/
LOCATION:Hilton Garden Inn\, 4100 Glover Lane\, North Little Rock\, AR\, United States
ATTACH;FMTTYPE=image/jpeg:https://j5psychic.com/wp-content/uploads/2022/08/bmsexpo.jpeg
END:VEVENT
BEGIN:VEVENT
DTSTART;TZID=America/North_Dakota/Center:20221029T090000
DTEND;TZID=America/North_Dakota/Center:20221029T170000
DTSTAMP:20260421T050620
CREATED:20220427T150202Z
LAST-MODIFIED:20220427T150202Z
UID:1433-1667034000-1667062800@j5psychic.com
SUMMARY:J5 Psychic @ ARKANSAS PARANORMAL EXPO   10th Year Anniversary (Little Rock)
DESCRIPTION:MacArthur Museum of Arkansas Military History \n503 East Ninth\, Little Rock\, AR \nOct\, 29th\, and 30th 9 am – 5pm \nI would have been a speaker at this event but I found out late about it. I will be set up talking to people about sleep paralysis\, showing off my books\, and offering trauma healing related to mental\, physical abuse\, and offering exorcisms to people who believe to be plagued by an entity. \nCome see me and check out some of the other cool vendors and speakers on paranormal topics. – J5 Psychic
URL:https://j5psychic.com/events/arkansas-paranormal-expo-10th-year-anniversary-little-rock/
LOCATION:MacArthur Museum of Arkansas Military History\, 503 East Ninth\, Little Rock\, AR\, United States
CATEGORIES:Aliens,Bigfoot,Entities,Expo,J5 Psychic,Paranormal,Spirits,Spiritual Expo,Spiritual fair,UFO
ATTACH;FMTTYPE=image/jpeg:https://j5psychic.com/wp-content/uploads/2022/04/Expo-bigfoot-ufo-ghosts-pic-Copy.jpg
ORGANIZER;CN="Rhonda Burton":MAILTO:rhonda.burton@arkansasparanormalexpo.com
END:VEVENT
BEGIN:VEVENT
DTSTART;VALUE=DATE:20221022
DTEND;VALUE=DATE:20221024
DTSTAMP:20260421T050620
CREATED:20221014T005314Z
LAST-MODIFIED:20221014T005314Z
UID:1659-1666396800-1666569599@j5psychic.com
SUMMARY:J5 Psychic @ Miracles of Joy (Lewisville\, TX)
DESCRIPTION:-J5 Psychic In Dallas Area doing discounted healing sessions \n \n  \nI will be set up at Miracles of Joy. They offer classes\, workshops\, onsite and off-site phone readings and healings along with all the valuable spiritual tools and accessories to help you on your way to a higher consciousness. \nI am glad to be hosted by them at one of their events to doing discounted healing sessions for the local community. \nCall them to book a session with me.
URL:https://j5psychic.com/events/j5-psychic-miracles-of-joy-lewisville-tx-2/
LOCATION:Miracles of Joy\, 701 S. Old Orchard Ln. Ste C\, Lewisville\, TX\, United States
CATEGORIES:Crystal Store,Energetic Healing,J5 Psychic,Metaphysical Store,Spiritual,Spiritual Expo,Spiritual fair
ATTACH;FMTTYPE=image/jpeg:https://j5psychic.com/wp-content/uploads/2022/10/mojoct22-1.jpeg
END:VEVENT
BEGIN:VEVENT
DTSTART;TZID=America/North_Dakota/Center:20221008T080000
DTEND;TZID=America/North_Dakota/Center:20221009T170000
DTSTAMP:20260421T050620
CREATED:20220829T230306Z
LAST-MODIFIED:20220829T230306Z
UID:1577-1665216000-1665334800@j5psychic.com
SUMMARY:J5 Psychic @ Chicago\, IL
DESCRIPTION:Info coming soon
URL:https://j5psychic.com/events/j5-psychic-chicago-il/
LOCATION:OK
END:VEVENT
BEGIN:VEVENT
DTSTART;VALUE=DATE:20220923
DTEND;VALUE=DATE:20220926
DTSTAMP:20260421T050620
CREATED:20220527T143027Z
LAST-MODIFIED:20220527T143027Z
UID:1505-1663891200-1664150399@j5psychic.com
SUMMARY:J5 Psychic @ WITCH STOCK FESTIVAL IN SPAVINAW\, OKLAHOMA
DESCRIPTION:J5 Psychic @ Camp Copperhead \nCome join me at one of the biggest metaphysical festivals in the central United States first annual Witch Stock by Enchantments and Oddies franchise in Oklahoma at Camp Copperhead in  Spavinaw\, Oklahoma Sept 23-25! \n  \nI’ll be set up doing trauma healing sessions targeted towards mental abuse\, ptsd\, sexual abuse\, past trauma\, heart trauma\, etc.. \n  \nCan contact me for a vendor application or contact the numbers listed on the flyer. \n \n 
URL:https://j5psychic.com/events/j5-psychic-witch-stock-festival-in-oklahoma/
LOCATION:Camp Copperhead\, 14367 OK-82 N\, Spavinaw\, OK\, 74366\, United States
CATEGORIES:J5 Psychic,Metaphysical Festival,Spiritual,Spiritual Expo,Spiritual fair,Witch Fair,Witch Stock
ATTACH;FMTTYPE=image/jpeg:https://j5psychic.com/wp-content/uploads/2022/05/witch-stock-2022.jpg
ORGANIZER;CN="Ashley":MAILTO:enchantmentsandoddities@gmail.com
END:VEVENT
BEGIN:VEVENT
DTSTART;TZID=America/North_Dakota/Center:20220917T100000
DTEND;TZID=America/North_Dakota/Center:20220918T170000
DTSTAMP:20260421T050620
CREATED:20220525T225442Z
LAST-MODIFIED:20220525T225442Z
UID:1494-1663408800-1663520400@j5psychic.com
SUMMARY:J5 Psychic @ Gypsy Soul Fair - Fort Smith
DESCRIPTION:Come visit me in Fort Smith! I’ll be one of the vendors set up at the spiritual festival doing readings and energetic trauma healings. \nGypsy Soul Fair admission is at the door\, $6 cash or $8 w/ credit card. \nSeptember 17 and 18th\, 10am – 5pm \n-J5 Psychic
URL:https://j5psychic.com/events/j5-psychic-gypsy-soul-fair-fort-smith/
LOCATION:Fort Smith Convention Center\, 55 S. 7th St\, Fort Smith\, AR\, United States
CATEGORIES:Connecting Consciousness,Conversations,Crystal Store,Energetic Healing,Expo,J5 Psychic,Spiritual,Spiritual Expo,Spiritual fair
ATTACH;FMTTYPE=image/jpeg:https://j5psychic.com/wp-content/uploads/2022/01/Gypsy-Soul-Fair-LLC-logo.jpg
END:VEVENT
BEGIN:VEVENT
DTSTART;VALUE=DATE:20220908
DTEND;VALUE=DATE:20220909
DTSTAMP:20260421T050620
CREATED:20220809T200529Z
LAST-MODIFIED:20220809T200529Z
UID:1546-1662595200-1662681599@j5psychic.com
SUMMARY:J5 Psychic @ Prestige Awards in NYC\, NY
DESCRIPTION:  \n  \nJ5 Psychic \nI will be flying to NYC on September 8th to accept an award. I won an award in the category of Psychic\, for Best Psychic of 2022 in South East USA. I’ll be here for a week if you were wanting to catch a session with me or meet me\, contact me.
URL:https://j5psychic.com/events/j5-psychic-prestige-awards-in-nyc-ny/
LOCATION:Lexington Hotel\, 511 Lexington Avenue\, NYC\, NY\, United States
CATEGORIES:Awards
ATTACH;FMTTYPE=image/jpeg:https://j5psychic.com/wp-content/uploads/2022/08/Image.jpeg
END:VEVENT
BEGIN:VEVENT
DTSTART;VALUE=DATE:20220827
DTEND;VALUE=DATE:20220829
DTSTAMP:20260421T050620
CREATED:20220809T194756Z
LAST-MODIFIED:20220809T194756Z
UID:1540-1661558400-1661731199@j5psychic.com
SUMMARY:J5 Psychic @ Miracles of Joy Healing Dallas Area (Lewisville\, TX)
DESCRIPTION:-J5 Psychic In Dallas Area \n  \nJuly 2nd\, and 3rd I will be set up at Miracles of Joy. They offer classes\, workshops\, onsite and off-site phone readings and healings along with all the valuable spiritual tools and accessories to help you on your way to a higher consciousness. \nI am glad to be hosted by them at one of their events to do healing sessions for the local community. \nCall them to book a session with me.
URL:https://j5psychic.com/events/j5-psychic-miracles-of-joy-healing-dallas-area-lewisville-tx/
LOCATION:Miracles of Joy\, 701 S. Old Orchard Ln. Ste C\, Lewisville\, TX\, United States
CATEGORIES:Crystal Store,Energetic Healing,J5 Psychic,Metaphysical Store,Spiritual,Spiritual Expo,Spiritual fair
ATTACH;FMTTYPE=image/jpeg:https://j5psychic.com/wp-content/uploads/2022/08/Image-Copy.jpeg
END:VEVENT
BEGIN:VEVENT
DTSTART;TZID=America/North_Dakota/Center:20220820T130000
DTEND;TZID=America/North_Dakota/Center:20220820T200000
DTSTAMP:20260421T050620
CREATED:20220809T195655Z
LAST-MODIFIED:20220809T195655Z
UID:1543-1661000400-1661025600@j5psychic.com
SUMMARY:J5 Psychic @ Enchantments and Oddities\, Tulsa\, Oklahoma
DESCRIPTION:  \n  \nJ5 Psychic @ Enchantments and Oddities in Tulsa\, Oklahoma\, Aug 20th 1pm – 8pm \nIf you’re in Tulsa area and wanting to be free of trauma and know what it feels like to finally be yourself\, absent of trauma\, book a session with me to obtain the results you’ve been looking for. I’ll be there for only one day for 8 hours.
URL:https://j5psychic.com/events/j5-psychic-enchantments-and-oddities-tulsa-oklahoma/
LOCATION:Enchantments & Oddities\, 8571 N Owasso Expy suite C\, Owasso\, OK\, 74055\, United States
CATEGORIES:Crystal Store,Energetic Healing,J5 Psychic,Metaphysical Store
ATTACH;FMTTYPE=image/jpeg:https://j5psychic.com/wp-content/uploads/2022/08/Image-Copy-2.jpeg
END:VEVENT
BEGIN:VEVENT
DTSTART;VALUE=DATE:20220709
DTEND;VALUE=DATE:20220710
DTSTAMP:20260421T050620
CREATED:20220528T221210Z
LAST-MODIFIED:20220528T221210Z
UID:1516-1657324800-1657411199@j5psychic.com
SUMMARY:J5 Psychic @ KAMBO GROUP CEREMONY (HOLISTIC FROG POISON) AT MY HOUSE CONWAY\, AR
DESCRIPTION:J5 Psychic Ceremonial Kambo Gathering at my home in Conway\, AR\nMy friend asked me if he could hold a Kambo ceremony at my house and I offered to help out! We will be holding a Kambo ceremony at my home on July 9th so we’re looking for 16 people to join us on our sacred healing journey. As of now\, we have 6 people so we’re looking for 10 more! If you’ve been struggling with particular health issues\, addictions\, cancer\, or just an auto immune system reboot and looking to give alternative healing a try\, I encourage you to try it out\, two Kambo ceremonies took away the chronic migraines that I’ve had for years\, still can’t believe they’re gone. If traveling from a different city I have multiple beds available to sleep on\, there is plenty of space. DM if you would like to join us or have any specific questions if Kambo will conflict with a certain medication or health illness you’re dealing with. To learn about Kambo visit J5psychic.com/kambo \n$150 to attend! \nThere is a $100 deposit due by June 27th and this is non-refundable to keep you committed to the ceremony\, the remaining $50 is due in person at the ceremony. \n  \nThe ceremony will hold true to indigenous traditions\, there will be Sananga offered prior to the ceremony\, and also hape will be administered after the Kambo. \n 
URL:https://j5psychic.com/events/j5-psychic-kambo-group-ceremony-holistic-frog-poison-at-my-house-conway-ar/
LOCATION:J5’s House\, Conway\, AR
CATEGORIES:Kambo Ceremony
ATTACH;FMTTYPE=image/jpeg:https://j5psychic.com/wp-content/uploads/2022/01/kambo2.jpg
ORGANIZER;CN="Matt Brake":MAILTO:kambo@medicinedreamer.com
END:VEVENT
BEGIN:VEVENT
DTSTART;VALUE=DATE:20220702
DTEND;VALUE=DATE:20220703
DTSTAMP:20260421T050620
CREATED:20220427T154956Z
LAST-MODIFIED:20220427T154956Z
UID:1455-1656720000-1656806399@j5psychic.com
SUMMARY:J5 Psychic @ Miracles of Joy Healing Dallas Area (Lewisville\, TX)
DESCRIPTION:-J5 Psychic In Dallas Area \n  \nJuly 2nd\, and 3rd I will be set up at Miracles of Joy. They offer classes\, workshops\, onsite and off-site phone readings and healings along with all the valuable spiritual tools and accessories to help you on your way to a higher consciousness. \nI am glad to be hosted by them at one of their events to do healing sessions for the local community. \n 
URL:https://j5psychic.com/events/j5-psychic-miracles-of-joy-lewisville-tx/
LOCATION:Miracles of Joy\, 701 S. Old Orchard Ln. Ste C\, Lewisville\, TX\, United States
CATEGORIES:Crystal Store,Energetic Healing,J5 Psychic,Metaphysical Store,Spiritual,Spiritual Expo,Spiritual fair
ATTACH;FMTTYPE=image/jpeg:https://j5psychic.com/wp-content/uploads/2022/04/miracles-of-joy-pic.jpg
END:VEVENT
BEGIN:VEVENT
DTSTART;TZID=America/North_Dakota/Center:20220625T100000
DTEND;TZID=America/North_Dakota/Center:20220625T170000
DTSTAMP:20260421T050620
CREATED:20220125T005611Z
LAST-MODIFIED:20220427T150420Z
UID:1285-1656151200-1656176400@j5psychic.com
SUMMARY:J5 Psychic @ Gypsy Soul Fair - Hot Springs
DESCRIPTION:Come visit me in Hot Springs! I’ll be one of the vendors set up at the spiritual festival doing readings and energetic trauma healings. \nGypsy Soul Fair admission is at the door\, $6 cash or $8 w/ credit card. \nJune 25 and 26\, 10am – 5pm \n-J5 Psychic
URL:https://j5psychic.com/events/gypsy-soul-fair-fort-smith/
LOCATION:Hot Springs Convention Center\, 134 Convention Blvd\, Hot Springs\, AR\, United States
ATTACH;FMTTYPE=image/jpeg:https://j5psychic.com/wp-content/uploads/2022/01/Gypsy-Soul-Fair-LLC-logo.jpg
END:VEVENT
BEGIN:VEVENT
DTSTART;TZID=America/North_Dakota/Center:20220521T110000
DTEND;TZID=America/North_Dakota/Center:20220521T130000
DTSTAMP:20260421T050620
CREATED:20220427T153238Z
LAST-MODIFIED:20220427T153238Z
UID:1452-1653130800-1653138000@j5psychic.com
SUMMARY:J5 Psychic @ Maumelle Spiritual Group Meet up\, Come all!
DESCRIPTION:Meet up for spiritual minded people looking to listen to or bring up their own topics and get feedback and share ideas. Multi-generational alternative thinkers conversating. No fee to attend\, bring yourself and friends for a good time with like minded folks.\n-J5 Psychic \nAmerian Pie Pizza \nMaumelle\, AR \n9709 Maumelle Blvd
URL:https://j5psychic.com/events/j5-psychic-maumelle-spiritual-group-meet-up/
LOCATION:American Pie Pizza\, 9709 Maumelle Blvd\, Maumelle\, AR\, United States
CATEGORIES:Conversations,J5 Psychic,Meet up,Spiritual
ATTACH;FMTTYPE=image/png:https://j5psychic.com/wp-content/uploads/2021/10/blog-1.png
ORGANIZER;CN="Heather Gerson":MAILTO:heathergerson@yahoo.com
END:VEVENT
BEGIN:VEVENT
DTSTART;TZID=America/North_Dakota/Center:20220521T100000
DTEND;TZID=America/North_Dakota/Center:20220521T170000
DTSTAMP:20260421T050620
CREATED:20220125T005101Z
LAST-MODIFIED:20220427T150522Z
UID:1289-1653127200-1653152400@j5psychic.com
SUMMARY:J5 Psychic @ Gypsy Soul Fair - Fort Smith
DESCRIPTION:Come visit me in Fort Smith! I’ll be one of the vendors set up at the spiritual festival doing readings and energetic trauma healings. \nGypsy Soul Fair admission is at the door\, $6 cash or $8 w/ credit card. \nMay 21 and 22\, 10am – 5pm \n-J5 Psychic
URL:https://j5psychic.com/events/gypsy-soul-fair-fort-smith-2/
LOCATION:Fort Smith Convention Center\, 55 S. 7th St\, Fort Smith\, AR\, United States
ATTACH;FMTTYPE=image/jpeg:https://j5psychic.com/wp-content/uploads/2022/01/Gypsy-Soul-Fair-LLC-logo.jpg
END:VEVENT
BEGIN:VEVENT
DTSTART;TZID=America/North_Dakota/Center:20220514T110000
DTEND;TZID=America/North_Dakota/Center:20220514T140000
DTSTAMP:20260421T050620
CREATED:20220427T151729Z
LAST-MODIFIED:20220427T155718Z
UID:1448-1652526000-1652536800@j5psychic.com
SUMMARY:J5 Psychic @ Connecting Consciousness In Person Meet-up (Jonesboro)! Register before attending\, its free.
DESCRIPTION:Connecting Consciousness (CC) is a grassroots organization where people join who recognize\, that the development on this planet is not always aligned with the benefit of mankind\, that global events are also embedded into other contexts than they are generally presented\, and that the forces acting behind the visible level often have more dimensions than are superficially apparent. \nIn CC we share spiritual values\, the desire to see this planet with all its beings and beyond in freedom\, peace\, and health by taking an active role\, connected by a unifying consciousness and the effort to raise awakening and awareness\, ensure as much light as possible as well as a high frequency. All this at any stage \n\nundogmatic\nspiritually nourishing\nmentally inspiring\nemotionally supportive\n\nMembership to Connecting Consciousness is FREE of charge\, please register online before attending a meetup event at https://www.connecting-consciousness.org/en/register \n-J5 Psychic
URL:https://j5psychic.com/events/j5-psychic-connecting-consciousness-in-person-meet-up-jonesboro-register-before-attending-its-free/
LOCATION:The Truck Patch Natural Market\, 906 southwest dr\, Jonesboro\, AR\, 72401\, United States
CATEGORIES:Connecting Consciousness,J5 Psychic,Meet up,Spiritual
ATTACH;FMTTYPE=image/png:https://j5psychic.com/wp-content/uploads/2022/04/logo5.png
END:VEVENT
BEGIN:VEVENT
DTSTART;TZID=America/North_Dakota/Center:20220423T090000
DTEND;TZID=America/North_Dakota/Center:20220424T160000
DTSTAMP:20260421T050620
CREATED:20220402T164002Z
LAST-MODIFIED:20220427T150803Z
UID:1397-1650704400-1650816000@j5psychic.com
SUMMARY:J5 Psychic @ Mystical Journey Holistic Expo - North Little Rock
DESCRIPTION:I will be one of the vendors set up here\, come see us in North Little Rock\, AR! I and my partner will have a booth set up providing energetic healing services and intuitive readings. We will also have tons of merchandise from clothing and apparel to our own made metaphysical products\, tinctures\, oils\, and so many things! Look forward to serving and healing locals within the community. \nThe organizer updated that there are no mask requirements to attend. \n  \n-J5 Psychic \nAdmission:  $5 \nApril 23 & 24\n9am-4pm
URL:https://j5psychic.com/events/mystical-journey-holistic-expo-north-little-rock/
LOCATION:Courtyard by Marriott\, 4339 Warden Rd\, North Little Rock\, AR\, United States
CATEGORIES:J5 Psychic,Spiritual Expo,Spiritual fair
ATTACH;FMTTYPE=image/png:https://j5psychic.com/wp-content/uploads/2022/04/2022-04-01.png
ORGANIZER;CN="Janice":MAILTO:janice@healingspecialties.com
END:VEVENT
BEGIN:VEVENT
DTSTART;TZID=America/North_Dakota/Center:20220421T120000
DTEND;TZID=America/North_Dakota/Center:20220421T200000
DTSTAMP:20260421T050620
CREATED:20220224T180532Z
LAST-MODIFIED:20220427T150857Z
UID:1357-1650542400-1650571200@j5psychic.com
SUMMARY:J5 Psychic @ Enchantments and Oddities\, Owasso\, Oklahoma
DESCRIPTION:-J5 Psychic
URL:https://j5psychic.com/events/enchantments-and-oddities-owasso-oklahoma/
LOCATION:Enchantments & Oddities\, 8571 N Owasso Expy suite C\, Owasso\, OK\, 74055\, United States
CATEGORIES:J5 Psychic
ATTACH;FMTTYPE=image/jpeg:https://j5psychic.com/wp-content/uploads/2022/02/enchantmentoddies.jpg
END:VEVENT
BEGIN:VEVENT
DTSTART;TZID=America/North_Dakota/Center:20220409T100000
DTEND;TZID=America/North_Dakota/Center:20220409T170000
DTSTAMP:20260421T050620
CREATED:20220304T012926Z
LAST-MODIFIED:20220427T151022Z
UID:1375-1649498400-1649523600@j5psychic.com
SUMMARY:J5 Psychic @ Enchanted Metaphysics & Mystics Market\, Clarksville\, AR
DESCRIPTION:I will be one of the vendors set up here\, come see us in Clarksville\, AR! I and my partner will have a booth set up providing energetic healing services and intuitive readings. We will also have tons of merchandise from clothing and apparel to our own made metaphysical products\, tinctures\, oils\, so many things! Look forward to serving and healing locals within the community. \n-J5 Psychic \nAdmission:  $5 per day or $7.77 for two days \nApril 9th and 10th 10 am-5 pm\nMarvin Vinson Center\n1611 Oakland St\, Clarksville\, AR 72830
URL:https://j5psychic.com/events/enchanted-metaphysics-mystics-market/
LOCATION:Marvin Vinson Center\, 1611 Oakland St\, Clarksville\, AR\, 72830\, United States
CATEGORIES:J5 Psychic,Spiritual Expo,Spiritual fair
ATTACH;FMTTYPE=image/png:https://j5psychic.com/wp-content/uploads/2022/03/General.png
END:VEVENT
BEGIN:VEVENT
DTSTART;TZID=America/North_Dakota/Center:20220226T130000
DTEND;TZID=America/North_Dakota/Center:20220226T170000
DTSTAMP:20260421T050620
CREATED:20220125T002408Z
LAST-MODIFIED:20220427T151213Z
UID:1278-1645880400-1645894800@j5psychic.com
SUMMARY:J5 Psychic @ Connecting Consciousness In Person Meet-up (Conway)! Register before attending\, its free.
DESCRIPTION:Connecting Consciousness (CC) is a grassroots organization where people join who recognize\, that the development on this planet is not always aligned with the benefit of mankind\, that global events are also embedded into other contexts than they are generally presented\, and that the forces acting behind the visible level often have more dimensions than are superficially apparent. \nIn CC we share spiritual values\, the desire to see this planet with all its beings and beyond in freedom\, peace\, and health by taking an active role\, connected by a unifying consciousness and the effort to raise awakening and awareness\, ensure as much light as possible as well as a high frequency. All this at any stage \n\nundogmatic\nspiritually nourishing\nmentally inspiring\nemotionally supportive\n\nMembership to Connecting Consciousness is FREE of charge\, please register online before attending a meetup event at https://www.connecting-consciousness.org/en/register \n-J5 Psychic
URL:https://j5psychic.com/events/connecting-consciousness-in-person-meet-up-2/
LOCATION:UCA Police Outreach Center\, 2125 College Ave\, Conway\, AR\, United States
CATEGORIES:Connecting Consciousness,J5 Psychic,Meet up,Spiritual
END:VEVENT
BEGIN:VEVENT
DTSTART;TZID=America/North_Dakota/Center:20220205T130000
DTEND;TZID=America/North_Dakota/Center:20220205T170000
DTSTAMP:20260421T050620
CREATED:20220125T002130Z
LAST-MODIFIED:20220427T151312Z
UID:1279-1644066000-1644080400@j5psychic.com
SUMMARY:J5 Psychic @ Connecting Consciousness In Person Meet-up (Texarkana)! Register before attending\, its free!
DESCRIPTION:Connecting Consciousness (CC) is a grass roots organization where people join who recognize\, that the development on this planet is not always aligned with the benefit of mankind\, that global events are also embedded into other contexts than they are generally presented\, and that the forces acting behind the visible level often have more dimensions than are superficially apparent. \nIn CC we share spiritual values\, the desire to see this planet with all it’s beings and beyond in freedom\, peace and health by taking an active role\, connected by a unifying consciousness and the effort to raise awakening and awareness\, ensure as much light as possible as well as a high frequency. All this at any stage \n\nundogmatic\nspiritually nourishing\nmentally inspiring\nemotionally supportive\n\nMembership to Connecting Consciousness is FREE of charge\, please register online before attending a meet up event at https://www.connecting-consciousness.org/en/register\n-J5 Psychic
URL:https://j5psychic.com/events/connecting-consciousness-in-person-meet-up/
LOCATION:Omega Professional Building\, 216 Olive Street\, Texarkana\, AR\, United States
CATEGORIES:Connecting Consciousness,J5 Psychic,Meet up,Spiritual
END:VEVENT
END:VCALENDAR